BEGIN:VCALENDAR
VERSION:2.0
PRODID:-//DRI - ECPv6.15.17//NONSGML v1.0//EN
CALSCALE:GREGORIAN
METHOD:PUBLISH
X-ORIGINAL-URL:https://www-dev.dri.edu
X-WR-CALDESC:Events for DRI
REFRESH-INTERVAL;VALUE=DURATION:PT1H
X-Robots-Tag:noindex
X-PUBLISHED-TTL:PT1H
BEGIN:VTIMEZONE
TZID:America/Los_Angeles
BEGIN:DAYLIGHT
TZOFFSETFROM:-0800
TZOFFSETTO:-0700
TZNAME:PDT
DTSTART:20230312T100000
END:DAYLIGHT
BEGIN:STANDARD
TZOFFSETFROM:-0700
TZOFFSETTO:-0800
TZNAME:PST
DTSTART:20231105T090000
END:STANDARD
BEGIN:DAYLIGHT
TZOFFSETFROM:-0800
TZOFFSETTO:-0700
TZNAME:PDT
DTSTART:20240310T100000
END:DAYLIGHT
BEGIN:STANDARD
TZOFFSETFROM:-0700
TZOFFSETTO:-0800
TZNAME:PST
DTSTART:20241103T090000
END:STANDARD
BEGIN:DAYLIGHT
TZOFFSETFROM:-0800
TZOFFSETTO:-0700
TZNAME:PDT
DTSTART:20250309T100000
END:DAYLIGHT
BEGIN:STANDARD
TZOFFSETFROM:-0700
TZOFFSETTO:-0800
TZNAME:PST
DTSTART:20251102T090000
END:STANDARD
BEGIN:DAYLIGHT
TZOFFSETFROM:-0800
TZOFFSETTO:-0700
TZNAME:PDT
DTSTART:20260308T100000
END:DAYLIGHT
BEGIN:STANDARD
TZOFFSETFROM:-0700
TZOFFSETTO:-0800
TZNAME:PST
DTSTART:20261101T090000
END:STANDARD
END:VTIMEZONE
BEGIN:VEVENT
DTSTART;TZID=America/Los_Angeles:20250410T170000
DTEND;TZID=America/Los_Angeles:20250410T193000
DTSTAMP:20260422T082840
CREATED:20250401T234211Z
LAST-MODIFIED:20250402T195728Z
UID:10000088-1744304400-1744313400@www-dev.dri.edu
SUMMARY:METRICS by Nevada Robotics at the DISCOVERY Children’s Museum
DESCRIPTION:METRICS at the DISCOVERY Children’s Museum in Las Vegas \nNevada Robotics will be at the DISCOVERY Thursday April 10 for a PreK/K METRICS workshop. \nMETRICS – Mentoring Educators Teaching Robotics and Innovation in Computer Science – is engaging and ongoing training using Nevada Robotics Books and Bots lessons. PreK and K Books and Bots lessons partner high quality picture books with robotics lessons to promote literacy and to teach computer science.  All lesson activities meet state computer science\, ELA\, and math standards. Also\, lessons provide the opportunity for teachers to incorporate\, and for students to practice\, Social Emotional Learning competencies such as teamwork\, perseverance\, communication\, and collaboration. \nMETRICS trainees receive stipends\, classroom robot sets\, free lessons\, free books for the classroom and for their students\, and all necessary teaching materials and supplies to implement robots in their classrooms. \nIn PreK/K METRICS\, teachers become confident coders and learn how to use robots as tools to meet PreK and K literacy and math standards\, and how to develop early readers\, critical thinkers\, and problem solvers. Graduates of the training series become members of the DRI Educator Academy and receive free access to lessons\, resources\, and technology support. \nThis workshop is at the DISCOVERY Children’s Museum in Las Vegas. Sign in is at 4:15 p.m. Dinner will be served at 4:30 p.m.\, and training runs from 5 p.m. – 7:30 p.m. \nThis training series is full.  \nPlease email nvrobotics@www-dev.dri.edu to be added to the Nevada Robotics email list\, and to learn about upcoming professional development opportunities. \nTo stay connected to Nevada Robotics\, follow us on Instagram\, Facebook\, and X – @nevadarobotics. \nThank you to our partner the DISCOVERY Children’s Museum in Las Vegas for providing a beautiful training space for METRICS\, and for supporting Clark County PreK/K educators.
URL:https://www-dev.dri.edu/event/metrics-workshop-april-10-discovery-childrens-museum/
LOCATION:DISCOVERY Children’s Museum\, 360 Promenade Pl.\, Las Vegas\, NV\, 89106\, United States
CATEGORIES:Nevada Robotics
ATTACH;FMTTYPE=image/jpeg:https://www-dev.dri.edu/wp-content/uploads/METRICS-Event-Graphic-V3-with-Logo.jpg
END:VEVENT
BEGIN:VEVENT
DTSTART;TZID=America/Los_Angeles:20250409T170000
DTEND;TZID=America/Los_Angeles:20250409T193000
DTSTAMP:20260422T082840
CREATED:20250401T230130Z
LAST-MODIFIED:20250402T195639Z
UID:10000087-1744218000-1744227000@www-dev.dri.edu
SUMMARY:METRICS Workshop by Nevada Robotics
DESCRIPTION:METRICS comes to Las Vegas! \nNevada Robotics will be at DRI Wednesday April 9 for a Prek/K METRICS workshop. \nMETRICS – Mentoring Educators Teaching Robotics and Innovation in Computer Science – is engaging and ongoing training using Nevada Robotics Books and Bots lessons. PreK and K Books and Bots lessons partner high quality picture books with robotics lessons to promote literacy and to teach computer science.  All lesson activities meet state computer science\, ELA\, and math standards. Also\, lessons provide the opportunity for teachers to incorporate\, and for students to practice\, Social Emotional Learning competencies such as teamwork\, perseverance\, communication\, and collaboration. \nMETRICS trainees receive stipends\, classroom robot sets\, free lessons\, free books for the classroom and for their students\, and all necessary teaching materials and supplies to implement robots in their classrooms. \nIn PreK/K METRICS\, teachers become confident coders and learn how to use robots as tools to meet PreK and K literacy and math standards\, and how to develop early readers\, critical thinkers\, and problem solvers. Graduates of the training series become members of the DRI Educator Academy and receive free access to lessons\, resources\, and technology support. \nThis workshop is at DRI’s Las Vegas Campus\, SNSC 181/182. Sign in is at 4:15 p.m. Dinner will be served at 4:30 p.m.\, and training runs from 5 p.m. – 7:30 p.m. \nThis training series is full.  \nPlease email nvrobotics@www-dev.dri.edu to be added to the Nevada Robotics email list\, and to learn about upcoming professional development opportunities. \nTo stay connected to Nevada Robotics\, follow us on Instagram\, Facebook\, and X – @nevadarobotics.
URL:https://www-dev.dri.edu/event/metrics-workshop-april-9-vegas/
LOCATION:DRI\, Las Vegas Campus\, 755 E. Flamingo Rd.\, Las Vegas\, NV\, 89119\, United States
CATEGORIES:Nevada Robotics
ATTACH;FMTTYPE=image/jpeg:https://www-dev.dri.edu/wp-content/uploads/METRICS-Event-Graphic-V3-with-Logo.jpg
END:VEVENT
BEGIN:VEVENT
DTSTART;TZID=America/Los_Angeles:20240912T163000
DTEND;TZID=America/Los_Angeles:20240912T193000
DTSTAMP:20260422T082840
CREATED:20240808T230523Z
LAST-MODIFIED:20240808T233207Z
UID:10000053-1726158600-1726169400@www-dev.dri.edu
SUMMARY:CS-STEM Professional Development for Elko Area PreK & K Educators
DESCRIPTION:METRICS (Mentoring Educators Teaching Robotics & Innovation in Computer Science) is engaging and ongoing training using Nevada Robotics’ Books and Bots Curriculum. Teachers learn how to use robots to meet PreK and K literacy and math standards\, and how to develop early readers\, critical thinkers\, and problem solvers. \nTeachers receive an $800 stipend for 10 hours of training\, free meals\, free lessons\, free books\, and free access to robots. \nTraining Details:\nParticipants must attend all four sessions.\nThursday\, September 12\nThursday\, October 3\nThursday\, January 23\nThursday\, February 27\nSign in & dinner at 4:30 p.m.\nTrainings are from 5:00 p.m.- 7:30 p.m.\nLocation: Great Basin College\, Elko \nRegister now for all four sessions! \nQuestions? Contact AJ Long\, Engineering Education Program Manager at aj.long@www-dev.dri.edu
URL:https://www-dev.dri.edu/event/cs-stem-pd-elko/
LOCATION:Great Basin College\, 1500 College Parkway\, Elko\, NV\, 89801\, United States
CATEGORIES:Nevada Robotics
ATTACH;FMTTYPE=image/png:https://www-dev.dri.edu/wp-content/uploads/NVRobotics_PD_Event.png
END:VEVENT
BEGIN:VEVENT
DTSTART;TZID=America/Los_Angeles:20240126T103000
DTEND;TZID=America/Los_Angeles:20240126T133000
DTSTAMP:20260422T082840
CREATED:20240122T181331Z
LAST-MODIFIED:20240122T184643Z
UID:10000031-1706265000-1706275800@www-dev.dri.edu
SUMMARY:PreK – 5th Educator Training
DESCRIPTION:Join us on January 25 at the Winnemucca Boys & Girls Club for this special training for PreK – 5th grade educators sponsored by Nevada Gold Mines. \nSave your spot by registering online now using our Google Form! \nIn this session\, you will: \n– Refresh your VEX 123 skills.\n– Learn how to use the VEX 123 to teach ELA\, math\, & computer science.\n– Experience Books & Bots curriculum integrated literacy-based instruction.\n– Receive a training certificate for hours.\n– Earn $150 stipend.\n– Receive a FREE meal included with the training. \nPlease bring your school’s VEX 123 robots to this training (if available). \nIf you have any questions\, please email aj.long@www-dev.dri.edu.
URL:https://www-dev.dri.edu/event/prek-5th-educator-training-2/
LOCATION:Winnemucca Boys & Girls Club\, 1973 Whitworth Way\, Winnemucca\, NV\, 89445\, United States
CATEGORIES:Nevada Robotics
ATTACH;FMTTYPE=image/png:https://www-dev.dri.edu/wp-content/uploads/Winnemucca-Educator-Training.png
END:VEVENT
BEGIN:VEVENT
DTSTART;TZID=America/Los_Angeles:20240125T160000
DTEND;TZID=America/Los_Angeles:20240125T190000
DTSTAMP:20260422T082840
CREATED:20240122T180203Z
LAST-MODIFIED:20240122T184551Z
UID:10000030-1706198400-1706209200@www-dev.dri.edu
SUMMARY:PreK - 5th Educator Training
DESCRIPTION:Join us on January 25 at Grass Valley Elementary School for this special training for PreK – 5th grade educators sponsored by Nevada Gold Mines. \nSave your spot by registering online now using our Google Form! \nIn this session\, you will: \n– Refresh your VEX 123 skills.\n– Learn how to use the VEX 123 to teach ELA\, math\, & computer science.\n– Experience Books & Bots curriculum integrated literacy-based instruction.\n– Receive a training certificate for hours.\n– Earn $150 stipend.\n– Receive a FREE meal included with the training. \nPlease bring your school’s VEX 123 robots to this training (if available). \nIf you have any questions\, please email aj.long@www-dev.dri.edu.
URL:https://www-dev.dri.edu/event/prek-5th-educator-training/
LOCATION:Grass Valley Elementary School\, 6465 Grass Valley Rd\, Winnemucca\, NV\, 89445\, United States
CATEGORIES:Nevada Robotics
ATTACH;FMTTYPE=image/png:https://www-dev.dri.edu/wp-content/uploads/Winnemucca-Educator-Training.png
END:VEVENT
END:VCALENDAR