BEGIN:VCALENDAR
VERSION:2.0
PRODID:-//DRI - ECPv6.15.17//NONSGML v1.0//EN
CALSCALE:GREGORIAN
METHOD:PUBLISH
X-WR-CALNAME:DRI
X-ORIGINAL-URL:https://www-dev.dri.edu
X-WR-CALDESC:Events for DRI
REFRESH-INTERVAL;VALUE=DURATION:PT1H
X-Robots-Tag:noindex
X-PUBLISHED-TTL:PT1H
BEGIN:VTIMEZONE
TZID:America/Los_Angeles
BEGIN:DAYLIGHT
TZOFFSETFROM:-0800
TZOFFSETTO:-0700
TZNAME:PDT
DTSTART:20240310T100000
END:DAYLIGHT
BEGIN:STANDARD
TZOFFSETFROM:-0700
TZOFFSETTO:-0800
TZNAME:PST
DTSTART:20241103T090000
END:STANDARD
BEGIN:DAYLIGHT
TZOFFSETFROM:-0800
TZOFFSETTO:-0700
TZNAME:PDT
DTSTART:20250309T100000
END:DAYLIGHT
BEGIN:STANDARD
TZOFFSETFROM:-0700
TZOFFSETTO:-0800
TZNAME:PST
DTSTART:20251102T090000
END:STANDARD
BEGIN:DAYLIGHT
TZOFFSETFROM:-0800
TZOFFSETTO:-0700
TZNAME:PDT
DTSTART:20260308T100000
END:DAYLIGHT
BEGIN:STANDARD
TZOFFSETFROM:-0700
TZOFFSETTO:-0800
TZNAME:PST
DTSTART:20261101T090000
END:STANDARD
END:VTIMEZONE
BEGIN:VEVENT
DTSTART;TZID=America/Los_Angeles:20251105T183000
DTEND;TZID=America/Los_Angeles:20251105T200000
DTSTAMP:20260421T135547
CREATED:20250122T224220Z
LAST-MODIFIED:20251007T233934Z
UID:10000072-1762367400-1762372800@www-dev.dri.edu
SUMMARY:The Possible Unknown: Stories about Exploring the Unreachable
DESCRIPTION:Join us for an evening of storytelling that delves into the mysteries of exploring what once seemed unreachable. ‘The Possible Unknown’ highlights stories of curiosity\, innovation\, and determination that open doors to new frontiers—whether through groundbreaking technology\, scientific discovery\, or personal journeys. Discover how the impossible becomes possible and the unknown becomes accessible to all. \nPurchase tickets online! \nDRI Storyteller: \nMegan Stueve will tell a story that is still unfolding. She is documenting hiking trails throughout the state parks in Nevada using 3D technology. The result is an immersive digital space that makes Nevada’s stunning landscapes accessible to all. \n  \n  \n  \nFeatured Storyteller: \nRyan Cooper has spent the last decade building world-class endurance races and most recently for the IRONMAN Group\, all while chasing his own dreams…but one journey changed everything. Ryan invites audiences to reflect on what it means to chase dreams\, confront loss\, and find meaning in the mountains—both literal and metaphorical. \n  \n  \nDr. Julian Kilker is a media scholar specializing in emerging technologies and their impact\, and most recently guest-edited the open-source journal Tradition-Innovations’ issue on “Artificial Intelligence and Possible Future for the Arts.” His research on innovation and visual methods spans work exhibited in Switzerland\, Washington DC\, California\, and Nevada and multiple academic publications. \nAdditional Experience: Attendees are encouraged to visit At the Heart of Basin and Range\, a Nevada Humanities exhibition located right next door at the Nevada Humanities Program Gallery (next to Vegas Theatre Company). The gallery will be open from 1:00 p.m. to 8:30 p.m.\, inviting guests to explore this companion exhibit before or after the event. Julian Kilker\, Co-Curator to this exhibit will also be a featured storyteller for this Curiosity Lab event. \nThank you to our community partner Nevada Humanities  \n \nThis production is not a Vegas Theatre Company event. The views expressed and other information presented are solely those of the producing entity.
URL:https://www-dev.dri.edu/event/curiosity-lab-the-possible-unknown/
LOCATION:Vegas Theatre Company\, 1025 S 1st St.\, Las Vegas\, NV\, 89101\, United States
CATEGORIES:Curiosity Lab Las Vegas
ATTACH;FMTTYPE=image/jpeg:https://www-dev.dri.edu/wp-content/uploads/CL-Possible-Unknown-Vegas-Nov-5.jpg
END:VEVENT
BEGIN:VEVENT
DTSTART;TZID=America/Los_Angeles:20251106T163000
DTEND;TZID=America/Los_Angeles:20251106T193000
DTSTAMP:20260421T135547
CREATED:20251105T222831Z
LAST-MODIFIED:20251105T222832Z
UID:10000137-1762446600-1762457400@www-dev.dri.edu
SUMMARY:Nevada Robotics IDEALS: Northern Nevada Cohort
DESCRIPTION:Nevada Robotics is taking applications from K-12 Northern Nevada educators for an IDEALS – Integrating Drone Education and Learning Statewide – professional development series in Reno. During the 3-part training\, educators will explore using the CoDrone EDU in the classroom /club and for REC Aerial Drone Competitions. This 7.5 – hour training provides hours for Opal (teacher license renewal). \nPiloting\nLearn how to fly an indoor drone. Teach your students how to take flight. \nProgramming\nLearn how to code a drone to execute a variety of maneuvers; teach your students coding skills. \nPotential\nExplore the possibility of creating a drone competition team. \nTraining Details\nSign in and dinner at 4:30 p.m.\nTraining from 5:00 p.m. – 7:30 p.m.\nThursday October 2\nThursday November 6\nThursday December 4\nLocation: DRI\, Reno 2215 Raggio Parkway\nParticipants must attend all three sessions. \nFREE Resources\nDrone loans\nActivity resources\nCompetition guidance\nClassroom support as needed\nTechnical support \nTHIS TRAINING SERIES IS FULL. \nTo learn more about other professional development opportunities\,  contact AJ Long\, Nevada Robotics Director\, at aj.long@www-dev.dri.edu. \nTo learn more about Nevada Robotics\, visit www.nevadarobotics.org.
URL:https://www-dev.dri.edu/event/nevada-robotics-ideals-northern-nevada-cohort-fall-2025-2/2025-11-06/
LOCATION:DRI\, Reno Campus\, 2215 Raggio Parkway\, Reno\, NV\, 89512\, United States
CATEGORIES:Nevada Robotics
ATTACH;FMTTYPE=image/jpeg:https://www-dev.dri.edu/wp-content/uploads/NVRoboticsHappenings1230x628-IDEALS.jpg
END:VEVENT
BEGIN:VEVENT
DTSTART;TZID=America/Los_Angeles:20251108T080000
DTEND;TZID=America/Los_Angeles:20251108T110000
DTSTAMP:20260421T135547
CREATED:20250401T212925Z
LAST-MODIFIED:20251029T195210Z
UID:10000086-1762588800-1762599600@www-dev.dri.edu
SUMMARY:STEM Professional Development Training: Solar Homes
DESCRIPTION:Join us for a FREE professional development session on our middle school Green Box unit\, Solar Homes! This Green Box provides three weeks of curriculum and all necessary supplies to teach students about solar energy and sustainable home design. You’ll explore solar radiation’s impact on homes and discover strategies to reduce its effects through smart design. Learn how to engage students in hands-on activities that empower them to create their own solar-powered homes. Don’t miss this chance to make sustainability an exciting part of your classroom! \nAlthough this training will cover middle school standards\, all interested educators are welcome to attend! Educators who attend the session will be eligible for up to 3 Continuing Education hours. \nClick here to register: https://forms.gle/Bq92uugtoTghrA6e9
URL:https://www-dev.dri.edu/event/stem-pd-nov-8-solar-homes-vegas/
LOCATION:DRI\, Las Vegas Campus\, 755 E. Flamingo Rd.\, Las Vegas\, NV\, 89119\, United States
CATEGORIES:STEM Education Program
ATTACH;FMTTYPE=image/jpeg:https://www-dev.dri.edu/wp-content/uploads/Solar-Homes.jpg
ORGANIZER;CN="STEM Education Program":MAILTO:STEMeducation@www-dev.dri.edu
END:VEVENT
BEGIN:VEVENT
DTSTART;TZID=America/Los_Angeles:20251108T100000
DTEND;TZID=America/Los_Angeles:20251108T130000
DTSTAMP:20260421T135547
CREATED:20250401T210606Z
LAST-MODIFIED:20251029T195310Z
UID:10000083-1762596000-1762606800@www-dev.dri.edu
SUMMARY:STEM Professional Development Training: Solar Homes
DESCRIPTION:Join us for a FREE professional development session on our middle school Green Box unit\, Solar Homes! This Green Box provides three weeks of curriculum and all necessary supplies to teach students about solar energy and sustainable home design. You’ll explore solar radiation’s impact on homes and discover strategies to reduce its effects through smart design. Learn how to engage students in hands-on activities that empower them to create their own solar-powered homes. Although this training will cover middle school standards\, all interested educators are welcome to attend. \nEducators who attend the session will be eligible for up to 3 Continuing Education hours. Note that this training can be taken in conjunction with the 9/27 Watersheds and Water Quality training and the 10/15 Truckee Watershed STEM Curriculum trainings to earn a full 0.5 credit (7.5 CE Hours). See the DRI Professional Development page for more information. \nClick here to register: https://forms.gle/ExLBkuxhD6EFZbVJ8
URL:https://www-dev.dri.edu/event/stem-pd-nov-8-solar-homes-reno/
LOCATION:DRI\, Reno Campus\, 2215 Raggio Parkway\, Reno\, NV\, 89512\, United States
CATEGORIES:STEM Education Program
ATTACH;FMTTYPE=image/jpeg:https://www-dev.dri.edu/wp-content/uploads/Solar-Homes.jpg
ORGANIZER;CN="STEM Education Program":MAILTO:STEMeducation@www-dev.dri.edu
END:VEVENT
BEGIN:VEVENT
DTSTART;TZID=America/Los_Angeles:20251119T130000
DTEND;TZID=America/Los_Angeles:20251119T153000
DTSTAMP:20260421T135547
CREATED:20251105T224417Z
LAST-MODIFIED:20251105T224417Z
UID:10000144-1763557200-1763566200@www-dev.dri.edu
SUMMARY:Nevada Robotics METRICS: Carson City PreK/K Cohort
DESCRIPTION:Nevada Robotics is proud to continue its relationship with Carson City Schools and is providing METRICS for the district’s PreK educators. METRICS is engaging and ongoing training using Nevada Robotics’ Books and Bots Lessons. Teachers are learning how to use robots to meet PreK literacy and math standards\, and how to develop early readers\, critical thinkers\, and problem solvers. \nTrainees are receiving a classroom robot set\, free robot loans\, parent resources\, teaching supplies\, classroom support as needed\, and technical support. \nMETRICS (Mentoring Educators Teaching Robotics and Innovation in Computer Science) is engaging and ongoing training using Nevada Robotics’ Books and Bots Lessons. Teachers learn how to use robots to meet PreK-5 literacy and math standards\, and how to develop early readers\, critical thinkers\, and problem solvers. \nTeachers will attend 7.5-hours of training and will receive free resources\, robots\, and books. This training is during the school day/contract hours\, so stipends and certificates are not available. \nFREE Resources\nA classroom robot set\nRobot loans\nBooks and Bots Lessons\nParent resources\nTeaching supplies\nClassroom support as needed\nTechnical support \nTraining Details\nSign in at 12:45 p.m.\nTraining from 1:00 – 3:30 p.m.\n– Wednesday October 8\n– Wednesday November 19\n– Wednesday January 14\nLocation: 604 West Musser Street\, Carson City \nParticipants must attend all three sessions. \nInterested in learning more about opportunities to train with Nevada Robotics?\nContact AJ Long\nNevada Robotics Director\naj.long@www-dev.dri.edu \nwww.nevadarobotics.org \nFollow nevadarobotics on Facebook\, Instagram\, and X.
URL:https://www-dev.dri.edu/event/nevada-robotics-metrics-carson-city-prek-k-cohort-nov-19/
LOCATION:Carson City School District Professional Development Center\, 604 West Musser St.\, Carson City\, NV\, 89703\, United States
CATEGORIES:Nevada Robotics
ATTACH;FMTTYPE=image/jpeg:https://www-dev.dri.edu/wp-content/uploads/NVRoboticsHappenings1230x628-METRICS.jpg
END:VEVENT
END:VCALENDAR