BEGIN:VCALENDAR
VERSION:2.0
PRODID:-//DRI - ECPv6.15.17//NONSGML v1.0//EN
CALSCALE:GREGORIAN
METHOD:PUBLISH
X-ORIGINAL-URL:https://www-dev.dri.edu
X-WR-CALDESC:Events for DRI
REFRESH-INTERVAL;VALUE=DURATION:PT1H
X-Robots-Tag:noindex
X-PUBLISHED-TTL:PT1H
BEGIN:VTIMEZONE
TZID:America/Los_Angeles
BEGIN:DAYLIGHT
TZOFFSETFROM:-0800
TZOFFSETTO:-0700
TZNAME:PDT
DTSTART:20230312T100000
END:DAYLIGHT
BEGIN:STANDARD
TZOFFSETFROM:-0700
TZOFFSETTO:-0800
TZNAME:PST
DTSTART:20231105T090000
END:STANDARD
BEGIN:DAYLIGHT
TZOFFSETFROM:-0800
TZOFFSETTO:-0700
TZNAME:PDT
DTSTART:20240310T100000
END:DAYLIGHT
BEGIN:STANDARD
TZOFFSETFROM:-0700
TZOFFSETTO:-0800
TZNAME:PST
DTSTART:20241103T090000
END:STANDARD
BEGIN:DAYLIGHT
TZOFFSETFROM:-0800
TZOFFSETTO:-0700
TZNAME:PDT
DTSTART:20250309T100000
END:DAYLIGHT
BEGIN:STANDARD
TZOFFSETFROM:-0700
TZOFFSETTO:-0800
TZNAME:PST
DTSTART:20251102T090000
END:STANDARD
END:VTIMEZONE
BEGIN:VEVENT
DTSTART;TZID=America/Los_Angeles:20240806T080000
DTEND;TZID=America/Los_Angeles:20240806T100000
DTSTAMP:20260421T190615
CREATED:20240723T211250Z
LAST-MODIFIED:20240723T212538Z
UID:10000051-1722931200-1722938400@www-dev.dri.edu
SUMMARY:Invasive Weed Pulling Event at Tule Springs Fossil Beds National Monument
DESCRIPTION:Join Tule Springs Fossil Beds National Monument (TUSK)\, the Protectors of Tule Springs\, and DRI for a weed pull to remove harmful invasive plants on your National Monument. Weed wrangler volunteers learn\, practice\, and foster a habit of maintaining an ecosystem and help prepare for future replanting with native species. \nWhen:  Tuesday\, August 6th from 8:00 a.m. to 10:00 a.m. \nWhat to bring:  Plenty of water\, sturdy shoes\, and your favorite gloves.  We will also have gloves available for volunteers to borrow if needed. \nWhere:  Meet at the TUSK/Eglington Preserve Kiosk.  From Aliante Parkway and Grand Teton\, go EAST on Grand Teton for about 1/2 mile to a white sign on the left that says “TUSK Kiosk.” Turn left at the sign onto the loose asphalt road that follows the post and cable fence on your left\, and you will see the kiosk just ahead on the right. Parking is next to the kiosk on the asphalt parking area. \nPlease RSVP here: tinyurl.com/Halogeton \nWe will send a confirmation email the week before with directions and map. \nJoin us to learn about native ecosystems and help native plants thrive!
URL:https://www-dev.dri.edu/event/invasive-weed-pulling/
LOCATION:Tule Springs Fossil Beds National Monument: Eglington Preserve Kiosk\, Grand Teton Dr. and Tule Springs Pkwy.\, Las Vegas\, 89084\, United States
CATEGORIES:Special Event
ATTACH;FMTTYPE=image/png:https://www-dev.dri.edu/wp-content/uploads/TUSK-Weed-Pull-Event-Image.png
END:VEVENT
BEGIN:VEVENT
DTSTART;VALUE=DATE:20240821
DTEND;VALUE=DATE:20240823
DTSTAMP:20260421T190615
CREATED:20240521T221244Z
LAST-MODIFIED:20240625T221621Z
UID:10000039-1724198400-1724371199@www-dev.dri.edu
SUMMARY:AWE+ 2024 Wildfire Recovery and Resilience: Working Across Silos to Drive Solutions
DESCRIPTION:AWE+ an Adaptable World Environment\nAugust 21-22\, 2024 – Las Vegas\, NV\nFor over six decades\, DRI has tirelessly tackled scientific challenges related to global climate. DRI is unwavering in its commitment to continue this intensive research. But fortifying communities against future devastation requires more than science. It demands the collective resolve of communities: agency staff\, elected officials\, policymakers\, first responders\, researchers and scientists\, industry leaders\, environmentalists and residents working together on measures to advance resilience and adaptability. This is where AWE+ comes into play.  \nIn our inaugural event\, AWE+ will focus on human adaptation to wildfires and their often-devastating impacts. AWE+ envisions a world where communities cultivate resilient measures amid the escalating intensity of wildfire events across the globe – not only to address the sheer destruction but also the cascading effects of pollutants and smoke that degrade air quality\, contaminate water supplies and result in post-fire debris flows and flooding. All pose acute threats and increasing societal costs that mandate an urgent acceleration towards resilient\, fire-adapted transformation. Through AWE+\, DRI will be a catalyst for honest conversations that grapple with tough questions and break out of past paradigms. \nVisit our website for details\, featured speakers\, and agenda overview.
URL:https://www-dev.dri.edu/event/awe-2024/
LOCATION:Encore Las Vegas\, 3121 South Las Vegas Blvd.\, Las Vegas\, NV\, 89109\, United States
CATEGORIES:Special Event
ATTACH;FMTTYPE=image/png:https://www-dev.dri.edu/wp-content/uploads/AWE2024Event_Graphic.png
END:VEVENT
BEGIN:VEVENT
DTSTART;TZID=America/Los_Angeles:20240824T080000
DTEND;TZID=America/Los_Angeles:20240824T110000
DTSTAMP:20260421T190615
CREATED:20240627T225754Z
LAST-MODIFIED:20240814T204823Z
UID:10000044-1724486400-1724497200@www-dev.dri.edu
SUMMARY:Fall Professional Development Trainings - Microscopes: Art & Science
DESCRIPTION:Discover the intersection of art and science with DRI’s STEM Education Program’s FREE educator professional development training Microscopes: Science and Art! Explore how microscopic worlds inspire creativity and deepen scientific inquiry in your classroom. Equip yourself with versatile teaching strategies that bridge disciplines and ignite curiosity among your students. A limited number of microscopes and digital cameras from our STEM Co-Lab Lending Library will be available for check-out at the end of the training! \nEducators who complete the session will receive a certificate of completion for up to 3 Continuing Education Hours. \nRegister now using our form! 
URL:https://www-dev.dri.edu/event/fall2024-pd-microscopes/
LOCATION:DRI\, Las Vegas Campus\, 755 E. Flamingo Rd.\, Las Vegas\, NV\, 89119\, United States
CATEGORIES:STEM Education Program
END:VEVENT
END:VCALENDAR