BEGIN:VCALENDAR
VERSION:2.0
PRODID:-//DRI - ECPv6.15.17//NONSGML v1.0//EN
CALSCALE:GREGORIAN
METHOD:PUBLISH
X-WR-CALNAME:DRI
X-ORIGINAL-URL:https://www-dev.dri.edu
X-WR-CALDESC:Events for DRI
REFRESH-INTERVAL;VALUE=DURATION:PT1H
X-Robots-Tag:noindex
X-PUBLISHED-TTL:PT1H
BEGIN:VTIMEZONE
TZID:America/Los_Angeles
BEGIN:DAYLIGHT
TZOFFSETFROM:-0800
TZOFFSETTO:-0700
TZNAME:PDT
DTSTART:20250309T100000
END:DAYLIGHT
BEGIN:STANDARD
TZOFFSETFROM:-0700
TZOFFSETTO:-0800
TZNAME:PST
DTSTART:20251102T090000
END:STANDARD
BEGIN:DAYLIGHT
TZOFFSETFROM:-0800
TZOFFSETTO:-0700
TZNAME:PDT
DTSTART:20260308T100000
END:DAYLIGHT
BEGIN:STANDARD
TZOFFSETFROM:-0700
TZOFFSETTO:-0800
TZNAME:PST
DTSTART:20261101T090000
END:STANDARD
BEGIN:DAYLIGHT
TZOFFSETFROM:-0800
TZOFFSETTO:-0700
TZNAME:PDT
DTSTART:20270314T100000
END:DAYLIGHT
BEGIN:STANDARD
TZOFFSETFROM:-0700
TZOFFSETTO:-0800
TZNAME:PST
DTSTART:20271107T090000
END:STANDARD
END:VTIMEZONE
BEGIN:VEVENT
DTSTART;TZID=America/Los_Angeles:20260207T080000
DTEND;TZID=America/Los_Angeles:20260207T120000
DTSTAMP:20260422T120923
CREATED:20251029T194841Z
LAST-MODIFIED:20251029T195508Z
UID:10000136-1770451200-1770465600@www-dev.dri.edu
SUMMARY:STEM Professional Development Training: 3D Printers
DESCRIPTION:Unlock innovative teaching methods with DRI’s STEM Education Program’s FREE educator professional development training on 3D printers! In the training\, educators will gain hands-on experience designing 3D objects in Tinkercad\, operating Prusa Mini printers\, and resources to transform the classroom into a hub of creativity and exploration! This training is open to K-12th grade Educators. \nEducators who attend the session will be eligible for up to 4 Continuing Education hours as well as the ability to check out Prusa 3D printers from DRI’s STEM Co-Lab Lending Library. \nClick here to register: https://forms.gle/2Mtky4h4ZnMCkLnn7
URL:https://www-dev.dri.edu/event/stem-pd-3d-printers-feb-7-reno/
LOCATION:DRI\, Reno Campus\, 2215 Raggio Parkway\, Reno\, NV\, 89512\, United States
CATEGORIES:STEM Education Program
ATTACH;FMTTYPE=image/jpeg:https://www-dev.dri.edu/wp-content/uploads/Reno-3D-Printers.jpg
ORGANIZER;CN="STEM Education Program":MAILTO:STEMeducation@www-dev.dri.edu
END:VEVENT
END:VCALENDAR