BEGIN:VCALENDAR
VERSION:2.0
PRODID:-//DRI - ECPv6.15.20//NONSGML v1.0//EN
CALSCALE:GREGORIAN
METHOD:PUBLISH
X-ORIGINAL-URL:https://www-dev.dri.edu
X-WR-CALDESC:Events for DRI
REFRESH-INTERVAL;VALUE=DURATION:PT1H
X-Robots-Tag:noindex
X-PUBLISHED-TTL:PT1H
BEGIN:VTIMEZONE
TZID:America/Los_Angeles
BEGIN:DAYLIGHT
TZOFFSETFROM:-0800
TZOFFSETTO:-0700
TZNAME:PDT
DTSTART:20240310T100000
END:DAYLIGHT
BEGIN:STANDARD
TZOFFSETFROM:-0700
TZOFFSETTO:-0800
TZNAME:PST
DTSTART:20241103T090000
END:STANDARD
BEGIN:DAYLIGHT
TZOFFSETFROM:-0800
TZOFFSETTO:-0700
TZNAME:PDT
DTSTART:20250309T100000
END:DAYLIGHT
BEGIN:STANDARD
TZOFFSETFROM:-0700
TZOFFSETTO:-0800
TZNAME:PST
DTSTART:20251102T090000
END:STANDARD
BEGIN:DAYLIGHT
TZOFFSETFROM:-0800
TZOFFSETTO:-0700
TZNAME:PDT
DTSTART:20260308T100000
END:DAYLIGHT
BEGIN:STANDARD
TZOFFSETFROM:-0700
TZOFFSETTO:-0800
TZNAME:PST
DTSTART:20261101T090000
END:STANDARD
END:VTIMEZONE
BEGIN:VEVENT
DTSTART;TZID=America/Los_Angeles:20250917T163000
DTEND;TZID=America/Los_Angeles:20250917T183000
DTSTAMP:20260424T063317
CREATED:20250908T165055Z
LAST-MODIFIED:20250908T165055Z
UID:10000124-1758126600-1758133800@www-dev.dri.edu
SUMMARY:Grand Opening of the Robert Z. Hawkins Foundation STEM Co-Lab
DESCRIPTION:Be part of the excitement as we unveil our new space! Enjoy a guided tour and engage in interactive demonstrations of the Lending Library materials. Discover how this hub will serve educators\, host workshops and provide STEM Education events to the community. RSVP here!
URL:https://www-dev.dri.edu/event/grand-opening-of-the-stem-co-lab/
LOCATION:DRI\, Reno Campus\, 2215 Raggio Parkway\, Reno\, NV\, 89512\, United States
CATEGORIES:STEM Education Program
ATTACH;FMTTYPE=image/jpeg:https://www-dev.dri.edu/wp-content/uploads/STEM-CoLab-Grand-Opening.jpg
ORGANIZER;CN="STEM Education Program":MAILTO:STEMeducation@www-dev.dri.edu
END:VEVENT
END:VCALENDAR