BEGIN:VCALENDAR
VERSION:2.0
PRODID:-//DRI - ECPv6.15.17//NONSGML v1.0//EN
CALSCALE:GREGORIAN
METHOD:PUBLISH
X-ORIGINAL-URL:https://www-dev.dri.edu
X-WR-CALDESC:Events for DRI
REFRESH-INTERVAL;VALUE=DURATION:PT1H
X-Robots-Tag:noindex
X-PUBLISHED-TTL:PT1H
BEGIN:VTIMEZONE
TZID:America/Los_Angeles
BEGIN:DAYLIGHT
TZOFFSETFROM:-0800
TZOFFSETTO:-0700
TZNAME:PDT
DTSTART:20250309T100000
END:DAYLIGHT
BEGIN:STANDARD
TZOFFSETFROM:-0700
TZOFFSETTO:-0800
TZNAME:PST
DTSTART:20251102T090000
END:STANDARD
BEGIN:DAYLIGHT
TZOFFSETFROM:-0800
TZOFFSETTO:-0700
TZNAME:PDT
DTSTART:20260308T100000
END:DAYLIGHT
BEGIN:STANDARD
TZOFFSETFROM:-0700
TZOFFSETTO:-0800
TZNAME:PST
DTSTART:20261101T090000
END:STANDARD
BEGIN:DAYLIGHT
TZOFFSETFROM:-0800
TZOFFSETTO:-0700
TZNAME:PDT
DTSTART:20270314T100000
END:DAYLIGHT
BEGIN:STANDARD
TZOFFSETFROM:-0700
TZOFFSETTO:-0800
TZNAME:PST
DTSTART:20271107T090000
END:STANDARD
END:VTIMEZONE
BEGIN:VEVENT
DTSTART;TZID=America/Los_Angeles:20260520T183000
DTEND;TZID=America/Los_Angeles:20260520T200000
DTSTAMP:20260420T035743
CREATED:20251118T163710Z
LAST-MODIFIED:20260203T184009Z
UID:10000150-1779301800-1779307200@www-dev.dri.edu
SUMMARY:What Lies Beneath: Stories of Obscured Truths and Quiet Dangers
DESCRIPTION:Join us for an evening that uncovers the dangers\, truths\, and meanings that often remain just out of sight. Through science\, art\, history\, and personal reflection\, this program invites you to look beneath the surface—at the hidden risks\, overlooked details\, and subtle forces that shape how we move through the world. \nYou’ll hear about efforts to detect threats earlier and more precisely\, alongside stories that explore how a simple shift in perspective can alter our understanding of safety\, meaning\, and connection. Whether buried in the ground\, embedded in memory\, or woven into the fabric of daily life\, the unseen has a profound impact on what we believe and how we act. \nCome discover how looking closer—and looking differently—can transform what we think we know about the world and our place within it. \nRefreshments & cocktails from 10 Torr Distillery and Brewery will be provided. \n$15 – General Admission\n$10 – Discounted Tickets for Students and Educators \nPurchase Tickets! \nThank you to our community partners Nevada Humanities & Atomic Museum\nand our beverage sponsor 10 Torr Distillery and Brewery. \n            
URL:https://www-dev.dri.edu/event/curiosity-lab-what-lies-beneath/
LOCATION:DRI\, Reno Campus\, 2215 Raggio Parkway\, Reno\, NV\, 89512\, United States
CATEGORIES:Curiosity Lab Reno
ATTACH;FMTTYPE=image/jpeg:https://www-dev.dri.edu/wp-content/uploads/2026-CL-Graphics_1230x628-What-Lies-Beneath-Banner-1.jpg
END:VEVENT
END:VCALENDAR