BEGIN:VCALENDAR
VERSION:2.0
PRODID:-//DRI - ECPv6.15.17//NONSGML v1.0//EN
CALSCALE:GREGORIAN
METHOD:PUBLISH
X-WR-CALNAME:DRI
X-ORIGINAL-URL:https://www-dev.dri.edu
X-WR-CALDESC:Events for DRI
REFRESH-INTERVAL;VALUE=DURATION:PT1H
X-Robots-Tag:noindex
X-PUBLISHED-TTL:PT1H
BEGIN:VTIMEZONE
TZID:America/Los_Angeles
BEGIN:DAYLIGHT
TZOFFSETFROM:-0800
TZOFFSETTO:-0700
TZNAME:PDT
DTSTART:20240310T100000
END:DAYLIGHT
BEGIN:STANDARD
TZOFFSETFROM:-0700
TZOFFSETTO:-0800
TZNAME:PST
DTSTART:20241103T090000
END:STANDARD
BEGIN:DAYLIGHT
TZOFFSETFROM:-0800
TZOFFSETTO:-0700
TZNAME:PDT
DTSTART:20250309T100000
END:DAYLIGHT
BEGIN:STANDARD
TZOFFSETFROM:-0700
TZOFFSETTO:-0800
TZNAME:PST
DTSTART:20251102T090000
END:STANDARD
BEGIN:DAYLIGHT
TZOFFSETFROM:-0800
TZOFFSETTO:-0700
TZNAME:PDT
DTSTART:20260308T100000
END:DAYLIGHT
BEGIN:STANDARD
TZOFFSETFROM:-0700
TZOFFSETTO:-0800
TZNAME:PST
DTSTART:20261101T090000
END:STANDARD
END:VTIMEZONE
BEGIN:VEVENT
DTSTART;TZID=America/Los_Angeles:20251218T083000
DTEND;TZID=America/Los_Angeles:20251218T190000
DTSTAMP:20260421T222130
CREATED:20251210T223956Z
LAST-MODIFIED:20251210T231143Z
UID:10000159-1766046600-1766084400@www-dev.dri.edu
SUMMARY:DRI at AGU25
DESCRIPTION:DRI scientists are headed to AGU in New Orleans! Join us in celebrating their work as they present alongside thousands of leaders advancing Earth and space science. \nDRI Presenters for December 18: \nDAN MCEVOY\, Ph.D.\nSpeaking Session at 9:15 a.m. in Room 208-209\nStorm-scale impacts on seasonal snow droughts: A case study in the Pacific Northwest\, United States \nGABRIELLE BOISRAME\, Ph.D.\nSpeaking Session at 9:35 a.m. in Board Room 265-266\nEarth\, Air\, Water\, and Fire: When the Classical Elements Get Complicated \nJOSEPH AMMATELLI\nSpeaking Session at 11:00 a.m. in Room 208-209\nGrounding the Shallow: Making Sense of the Ground Heat Flux when Modeling Thin and Ephemeral Snow \nPoster Presentations:\nRAJAN BHANDARI at 2:15 p.m.\nINCHEOL KIM at 2:15 p.m.\nKABIR RASOULI at 2:15 p.m. \nSee the full program schedule on the AGU25 website.
URL:https://www-dev.dri.edu/event/dri-at-agu25-5/
LOCATION:New Orleans Ernest N. Morial Convention Center\, 900 Convention Center Blvd\, New Orleans\, LA\, 70130\, United States
CATEGORIES:Special Event
ATTACH;FMTTYPE=image/jpeg:https://www-dev.dri.edu/wp-content/uploads/Event-Hero-Image-AGU2.jpg
END:VEVENT
END:VCALENDAR