BEGIN:VCALENDAR
VERSION:2.0
PRODID:-//DRI - ECPv6.15.17//NONSGML v1.0//EN
CALSCALE:GREGORIAN
METHOD:PUBLISH
X-WR-CALNAME:DRI
X-ORIGINAL-URL:https://www-dev.dri.edu
X-WR-CALDESC:Events for DRI
REFRESH-INTERVAL;VALUE=DURATION:PT1H
X-Robots-Tag:noindex
X-PUBLISHED-TTL:PT1H
BEGIN:VTIMEZONE
TZID:America/Los_Angeles
BEGIN:DAYLIGHT
TZOFFSETFROM:-0800
TZOFFSETTO:-0700
TZNAME:PDT
DTSTART:20240310T100000
END:DAYLIGHT
BEGIN:STANDARD
TZOFFSETFROM:-0700
TZOFFSETTO:-0800
TZNAME:PST
DTSTART:20241103T090000
END:STANDARD
BEGIN:DAYLIGHT
TZOFFSETFROM:-0800
TZOFFSETTO:-0700
TZNAME:PDT
DTSTART:20250309T100000
END:DAYLIGHT
BEGIN:STANDARD
TZOFFSETFROM:-0700
TZOFFSETTO:-0800
TZNAME:PST
DTSTART:20251102T090000
END:STANDARD
BEGIN:DAYLIGHT
TZOFFSETFROM:-0800
TZOFFSETTO:-0700
TZNAME:PDT
DTSTART:20260308T100000
END:DAYLIGHT
BEGIN:STANDARD
TZOFFSETFROM:-0700
TZOFFSETTO:-0800
TZNAME:PST
DTSTART:20261101T090000
END:STANDARD
END:VTIMEZONE
BEGIN:VEVENT
DTSTART;TZID=America/Los_Angeles:20251216T083000
DTEND;TZID=America/Los_Angeles:20251216T190000
DTSTAMP:20260419T145129
CREATED:20251210T223031Z
LAST-MODIFIED:20251212T195829Z
UID:10000157-1765873800-1765911600@www-dev.dri.edu
SUMMARY:DRI at AGU25
DESCRIPTION:DRI scientists are headed to AGU in New Orleans! Join us in celebrating their work as they present alongside thousands of leaders advancing Earth and space science. \nDRI Presenters for December 16: \nSOPHIA M. WENSMAN\, Ph.D.\nSpeaking Session at 11:36 a.m. in Room 210\nIce Core Records of Environmental Change \nANANYA SEN\, Ph.D.\nSpeaking Session at 4:50 p.m. in Room 270\nTransition of Mesoscale Gravity Wave Forms \nPoster Presentations:\nDINA FIEMAN at 8:30 a.m.\nKELLY LORIA at 8:30 a.m.\nCELIME GARCIA at 2:15 p.m.\nJENNIFER KIELHOFER at 2:15 p.m.\nMONTY MAJUMDAR at 2:15 p.m.\n \nSee the full program schedule on the AGU25 website.
URL:https://www-dev.dri.edu/event/dri-at-agu25-3/
LOCATION:New Orleans Ernest N. Morial Convention Center\, 900 Convention Center Blvd\, New Orleans\, LA\, 70130\, United States
CATEGORIES:Special Event
ATTACH;FMTTYPE=image/jpeg:https://www-dev.dri.edu/wp-content/uploads/Event-Hero-Image-AGU2.jpg
END:VEVENT
END:VCALENDAR