BEGIN:VCALENDAR
VERSION:2.0
PRODID:-//DRI - ECPv6.15.20//NONSGML v1.0//EN
CALSCALE:GREGORIAN
METHOD:PUBLISH
X-WR-CALNAME:DRI
X-ORIGINAL-URL:https://www-dev.dri.edu
X-WR-CALDESC:Events for DRI
REFRESH-INTERVAL;VALUE=DURATION:PT1H
X-Robots-Tag:noindex
X-PUBLISHED-TTL:PT1H
BEGIN:VTIMEZONE
TZID:America/Los_Angeles
BEGIN:DAYLIGHT
TZOFFSETFROM:-0800
TZOFFSETTO:-0700
TZNAME:PDT
DTSTART:20240310T100000
END:DAYLIGHT
BEGIN:STANDARD
TZOFFSETFROM:-0700
TZOFFSETTO:-0800
TZNAME:PST
DTSTART:20241103T090000
END:STANDARD
BEGIN:DAYLIGHT
TZOFFSETFROM:-0800
TZOFFSETTO:-0700
TZNAME:PDT
DTSTART:20250309T100000
END:DAYLIGHT
BEGIN:STANDARD
TZOFFSETFROM:-0700
TZOFFSETTO:-0800
TZNAME:PST
DTSTART:20251102T090000
END:STANDARD
BEGIN:DAYLIGHT
TZOFFSETFROM:-0800
TZOFFSETTO:-0700
TZNAME:PDT
DTSTART:20260308T100000
END:DAYLIGHT
BEGIN:STANDARD
TZOFFSETFROM:-0700
TZOFFSETTO:-0800
TZNAME:PST
DTSTART:20261101T090000
END:STANDARD
END:VTIMEZONE
BEGIN:VEVENT
DTSTART;TZID=America/Los_Angeles:20251016T080000
DTEND;TZID=America/Los_Angeles:20251016T180000
DTSTAMP:20260423T134739
CREATED:20250827T183608Z
LAST-MODIFIED:20250827T183608Z
UID:10000119-1760601600-1760637600@www-dev.dri.edu
SUMMARY:AWE+2025 Collaborative: Wildfire & Beyond – Building an Adaptable and Resilient World
DESCRIPTION:AWE+ is a DRI global initiative formed in 2024. Reflecting the four classical elements of nature – air\, water\, earth\, and fire – AWE+ advances community resilience and adaptability in the face of increasing\, inevitable catastrophes that affect human lives and environmental ecosystems. It addresses tough challenges by promoting actionable solutions through interdisciplinary collaboration. \nThe AWE+2025 Collaborative will be both a reflective and transitional exercise. It will carry forward and reinforce the objectives of last year’s AWE+2024 summit where DRI brought together stakeholders of various disciplinary backgrounds to consider matters of resilience and recovery in light of the devastating impacts of wildfire. AWE+2025 will build on the 2024 conversations and examine in greater depth the cascading impacts of wildfire and smoke such as heatwaves\, flooding\, and droughts. Its goal is to: \n\nHighlight and prompt the continuing and urgent need for community\, regional\, and state leadership in taking action to strengthen our communities to mitigate inevitable catastrophes that are compounded by changes in climate\, land use\, and population.\nPromote interdisciplinary\, cross-sector collaboration as essential in strengthening the resolve for tough decision making on consequential impacts and challenges to achieve meaningful progress.\n\nWe invite 2024 participants to continue the conversation and welcome persons new to the AWE+ experience to join right in. \nVisit the AWE+ website for more information and to register!
URL:https://www-dev.dri.edu/event/awe2025/
LOCATION:DRI\, Reno Campus\, 2215 Raggio Parkway\, Reno\, NV\, 89512\, United States
CATEGORIES:Special Event
ATTACH;FMTTYPE=image/png:https://www-dev.dri.edu/wp-content/uploads/AWE2024Event_Graphic.png
END:VEVENT
END:VCALENDAR