BEGIN:VCALENDAR
VERSION:2.0
PRODID:-//DRI - ECPv6.15.20//NONSGML v1.0//EN
CALSCALE:GREGORIAN
METHOD:PUBLISH
X-WR-CALNAME:DRI
X-ORIGINAL-URL:https://www-dev.dri.edu
X-WR-CALDESC:Events for DRI
REFRESH-INTERVAL;VALUE=DURATION:PT1H
X-Robots-Tag:noindex
X-PUBLISHED-TTL:PT1H
BEGIN:VTIMEZONE
TZID:America/Los_Angeles
BEGIN:DAYLIGHT
TZOFFSETFROM:-0800
TZOFFSETTO:-0700
TZNAME:PDT
DTSTART:20240310T100000
END:DAYLIGHT
BEGIN:STANDARD
TZOFFSETFROM:-0700
TZOFFSETTO:-0800
TZNAME:PST
DTSTART:20241103T090000
END:STANDARD
BEGIN:DAYLIGHT
TZOFFSETFROM:-0800
TZOFFSETTO:-0700
TZNAME:PDT
DTSTART:20250309T100000
END:DAYLIGHT
BEGIN:STANDARD
TZOFFSETFROM:-0700
TZOFFSETTO:-0800
TZNAME:PST
DTSTART:20251102T090000
END:STANDARD
BEGIN:DAYLIGHT
TZOFFSETFROM:-0800
TZOFFSETTO:-0700
TZNAME:PDT
DTSTART:20260308T100000
END:DAYLIGHT
BEGIN:STANDARD
TZOFFSETFROM:-0700
TZOFFSETTO:-0800
TZNAME:PST
DTSTART:20261101T090000
END:STANDARD
END:VTIMEZONE
BEGIN:VEVENT
DTSTART;TZID=America/Los_Angeles:20251015T163000
DTEND;TZID=America/Los_Angeles:20251015T180000
DTSTAMP:20260424T005823
CREATED:20250611T200229Z
LAST-MODIFIED:20250721T211927Z
UID:10000108-1760545800-1760551200@www-dev.dri.edu
SUMMARY:STEM Professional Development Training: Truckee Watershed STEM Curriculum
DESCRIPTION:In partnership with the Truckee Meadows Water Authority\, the Desert Research Institute STEM Education Program has created two new middle/high school lessons! These two lessons will use computational simulations to illustrate how water management within the Truckee River watershed balances human sustainability and environmental biodiversity. The first lesson focuses on water management of dams and reservoirs\, and the second lesson focuses on urban source water protection. This professional development training will lead educators through the online resources and allow educators to discuss how these resources could best be implemented in their classrooms. Although this training will cover grade level standards\, all interested educators are welcome to attend! \nEducators who attend the session will be eligible for up to 1.5 Continuing Education hours. Note that this training can be taken in conjunction with the 9/27 Watersheds and Water Quality training and the 11/8 Solar Homes training to earn a full 0.5 credit (7.5 CE Hours). See the DRI Professional Development page for more information. \nClick here to register: https://forms.gle/Ei4rmpe2eBoijdnU7
URL:https://www-dev.dri.edu/event/stem-pd-oct-15-truckee-watershed-stem-curriculum/
LOCATION:DRI\, Reno Campus\, 2215 Raggio Parkway\, Reno\, NV\, 89512\, United States
CATEGORIES:STEM Education Program
ATTACH;FMTTYPE=image/jpeg:https://www-dev.dri.edu/wp-content/uploads/Truckee-Watershed-Virtual-STEM-Curriculum-1.jpg
ORGANIZER;CN="STEM Education Program":MAILTO:STEMeducation@www-dev.dri.edu
END:VEVENT
END:VCALENDAR