BEGIN:VCALENDAR
VERSION:2.0
PRODID:-//DRI - ECPv6.15.17//NONSGML v1.0//EN
CALSCALE:GREGORIAN
METHOD:PUBLISH
X-WR-CALNAME:DRI
X-ORIGINAL-URL:https://www-dev.dri.edu
X-WR-CALDESC:Events for DRI
REFRESH-INTERVAL;VALUE=DURATION:PT1H
X-Robots-Tag:noindex
X-PUBLISHED-TTL:PT1H
BEGIN:VTIMEZONE
TZID:America/Los_Angeles
BEGIN:DAYLIGHT
TZOFFSETFROM:-0800
TZOFFSETTO:-0700
TZNAME:PDT
DTSTART:20240310T100000
END:DAYLIGHT
BEGIN:STANDARD
TZOFFSETFROM:-0700
TZOFFSETTO:-0800
TZNAME:PST
DTSTART:20241103T090000
END:STANDARD
BEGIN:DAYLIGHT
TZOFFSETFROM:-0800
TZOFFSETTO:-0700
TZNAME:PDT
DTSTART:20250309T100000
END:DAYLIGHT
BEGIN:STANDARD
TZOFFSETFROM:-0700
TZOFFSETTO:-0800
TZNAME:PST
DTSTART:20251102T090000
END:STANDARD
BEGIN:DAYLIGHT
TZOFFSETFROM:-0800
TZOFFSETTO:-0700
TZNAME:PDT
DTSTART:20260308T100000
END:DAYLIGHT
BEGIN:STANDARD
TZOFFSETFROM:-0700
TZOFFSETTO:-0800
TZNAME:PST
DTSTART:20261101T090000
END:STANDARD
END:VTIMEZONE
BEGIN:VEVENT
DTSTART;TZID=America/Los_Angeles:20251219T083000
DTEND;TZID=America/Los_Angeles:20251219T130000
DTSTAMP:20260420T000019
CREATED:20251210T220741Z
LAST-MODIFIED:20251210T231642Z
UID:1389388-1766133000-1766149200@www-dev.dri.edu
SUMMARY:DRI at AGU25
DESCRIPTION:DRI scientists are headed to AGU in New Orleans! Join us in celebrating their work as they present alongside thousands of leaders advancing Earth and space science. \nDRI Presenters for December 19: \nMONICA ARIENZO\, Ph.D.\nSpeaking Session at 8:30 a.m. in Room 255-257\nLatitudinal Gradients of Snow Contamination in the Rocky Mountains Associated \nPoster Presentations:\nMONICA ARIENZO at 8:30 a.m.\nERIC WILCOX at 8:30 a.m. \nSee the full program schedule on the AGU25 website.
URL:https://www-dev.dri.edu/event/dri-at-agu25/
LOCATION:New Orleans Ernest N. Morial Convention Center\, 900 Convention Center Blvd\, New Orleans\, LA\, 70130\, United States
CATEGORIES:Special Event
ATTACH;FMTTYPE=image/jpeg:https://www-dev.dri.edu/wp-content/uploads/Event-Hero-Image-AGU2.jpg
END:VEVENT
END:VCALENDAR